BEGIN:VCALENDAR
VERSION:2.0
PRODID:-//Library Live - ECPv6.15.13.1//NONSGML v1.0//EN
CALSCALE:GREGORIAN
METHOD:PUBLISH
X-ORIGINAL-URL:https://librarylive.co.uk
X-WR-CALDESC:Events for Library Live
REFRESH-INTERVAL;VALUE=DURATION:PT1H
X-Robots-Tag:noindex
X-PUBLISHED-TTL:PT1H
BEGIN:VTIMEZONE
TZID:UTC
BEGIN:STANDARD
TZOFFSETFROM:+0000
TZOFFSETTO:+0000
TZNAME:UTC
DTSTART:20210101T000000
END:STANDARD
END:VTIMEZONE
BEGIN:VEVENT
DTSTART;TZID=UTC:20220815T140000
DTEND;TZID=UTC:20220815T160000
DTSTAMP:20260422T161113
CREATED:20220711T135513Z
LAST-MODIFIED:20220711T135513Z
UID:6256-1660572000-1660579200@librarylive.co.uk
SUMMARY:Summer Reading Challenge - Amazing Flying and Flapping Creations
DESCRIPTION:Join Jill to make some wonderful flying creatures\, butterflies\, bats\, birds\, whatever you wish to create.  Why not drop and have a go at making your own. Suitable for families with children aged 12 and under. \nFree – drop in – please consider making a donation if you can either online or at one of our cash or contactless donation boxes in Central Library
URL:https://librarylive.co.uk/event/summer-reading-challenge-amazing-flying-and-flapping-creations/
LOCATION:Performance Space
CATEGORIES:Family
ATTACH;FMTTYPE=image/jpeg:https://librarylive.co.uk/wp-content/uploads/2022/07/SRC-Flying-scaled.jpg
END:VEVENT
END:VCALENDAR