BEGIN:VCALENDAR
VERSION:2.0
PRODID:-//Library Live - ECPv6.15.13.1//NONSGML v1.0//EN
CALSCALE:GREGORIAN
METHOD:PUBLISH
X-WR-CALNAME:Library Live
X-ORIGINAL-URL:https://librarylive.co.uk
X-WR-CALDESC:Events for Library Live
REFRESH-INTERVAL;VALUE=DURATION:PT1H
X-Robots-Tag:noindex
X-PUBLISHED-TTL:PT1H
BEGIN:VTIMEZONE
TZID:UTC
BEGIN:STANDARD
TZOFFSETFROM:+0000
TZOFFSETTO:+0000
TZNAME:UTC
DTSTART:20210101T000000
END:STANDARD
END:VTIMEZONE
BEGIN:VEVENT
DTSTART;TZID=UTC:20220810T140000
DTEND;TZID=UTC:20220810T153000
DTSTAMP:20260422T160949
CREATED:20220711T130021Z
LAST-MODIFIED:20220712T074104Z
UID:6247-1660140000-1660145400@librarylive.co.uk
SUMMARY:Summer Reading Challenge - Steam Punk Crafts
DESCRIPTION:It’s rusty\, it has cogs and a propellor and it makes a racket…it’s a Steampunk time machine. How do Steampunks get around and what do they wear? Make your own Steampunk time travelling machine or your own Steampunk accessories! No need to book just drop in. Suitable for families. \nFree – drop in – please consider making a donation if you can either online or at one of our cash or contactless donation boxes in Central Library
URL:https://librarylive.co.uk/event/summer-reading-challenge-steam-punk-crafts/
CATEGORIES:Family
ATTACH;FMTTYPE=image/png:https://librarylive.co.uk/wp-content/uploads/2022/07/steampunk-hat.png
END:VEVENT
END:VCALENDAR