BEGIN:VCALENDAR
VERSION:2.0
PRODID:-//Library Live - ECPv6.15.13.1//NONSGML v1.0//EN
CALSCALE:GREGORIAN
METHOD:PUBLISH
X-ORIGINAL-URL:https://librarylive.co.uk
X-WR-CALDESC:Events for Library Live
REFRESH-INTERVAL;VALUE=DURATION:PT1H
X-Robots-Tag:noindex
X-PUBLISHED-TTL:PT1H
BEGIN:VTIMEZONE
TZID:UTC
BEGIN:STANDARD
TZOFFSETFROM:+0000
TZOFFSETTO:+0000
TZNAME:UTC
DTSTART:20210101T000000
END:STANDARD
END:VTIMEZONE
BEGIN:VEVENT
DTSTART;TZID=UTC:20220619T120000
DTEND;TZID=UTC:20220619T160000
DTSTAMP:20260422T192351
CREATED:20220519T134225Z
LAST-MODIFIED:20220519T134225Z
UID:6095-1655640000-1655654400@librarylive.co.uk
SUMMARY:Sunday Funday – See Myself in Books
DESCRIPTION:Join in a range of family-friendly activities celebrating the joy of books and stories celebrating diversity. Relax in the story tent with our storyteller sharing stories with characters and authors/illustrators of colour. Listen to music from a range of cultures and spend some time getting creative with a selection of craft activities for families. \nFree – drop in – please consider making a donation if you can either online or at one of our cash or contactless donation boxes in Central Library
URL:https://librarylive.co.uk/event/sunday-funday-see-myself-in-books/
LOCATION:Performance Space
CATEGORIES:Family
ATTACH;FMTTYPE=image/jpeg:https://librarylive.co.uk/wp-content/uploads/2022/05/See-myself.jpg
END:VEVENT
END:VCALENDAR