BEGIN:VCALENDAR
VERSION:2.0
PRODID:-//Library Live - ECPv6.15.13.1//NONSGML v1.0//EN
CALSCALE:GREGORIAN
METHOD:PUBLISH
X-WR-CALNAME:Library Live
X-ORIGINAL-URL:https://librarylive.co.uk
X-WR-CALDESC:Events for Library Live
REFRESH-INTERVAL;VALUE=DURATION:PT1H
X-Robots-Tag:noindex
X-PUBLISHED-TTL:PT1H
BEGIN:VTIMEZONE
TZID:UTC
BEGIN:STANDARD
TZOFFSETFROM:+0000
TZOFFSETTO:+0000
TZNAME:UTC
DTSTART:20210101T000000
END:STANDARD
END:VTIMEZONE
BEGIN:VEVENT
DTSTART;TZID=UTC:20220605T120000
DTEND;TZID=UTC:20220605T160000
DTSTAMP:20260422T192333
CREATED:20220513T134019Z
LAST-MODIFIED:20220516T084519Z
UID:6010-1654430400-1654444800@librarylive.co.uk
SUMMARY:Sunday Funday: A Royal Celebration
DESCRIPTION:Enjoy a free\, fun packed afternoon with lots to do for all the family as we come together to celebrate the Queen’s Platinum Jubilee. There wil be Jubilee themed art and craft family workshops with artists Caroline Coates and Simone Frater-Russell throughout the afternoon. Family film screening starting at 1pm\, plus popcorn! Free face painting for all with talented artist\, Vix. \nFree – drop in – please consider making a donation if you can either online or at one of our cash or contactless donation boxes in Central Library
URL:https://librarylive.co.uk/event/sunday-funday-a-royal-celebration/
LOCATION:Performance Space
CATEGORIES:Family
ATTACH;FMTTYPE=image/jpeg:https://librarylive.co.uk/wp-content/uploads/2022/05/Jubilee.jpg
END:VEVENT
END:VCALENDAR