BEGIN:VCALENDAR
VERSION:2.0
PRODID:-//Library Live - ECPv6.15.13.1//NONSGML v1.0//EN
CALSCALE:GREGORIAN
METHOD:PUBLISH
X-WR-CALNAME:Library Live
X-ORIGINAL-URL:https://librarylive.co.uk
X-WR-CALDESC:Events for Library Live
REFRESH-INTERVAL;VALUE=DURATION:PT1H
X-Robots-Tag:noindex
X-PUBLISHED-TTL:PT1H
BEGIN:VTIMEZONE
TZID:UTC
BEGIN:STANDARD
TZOFFSETFROM:+0000
TZOFFSETTO:+0000
TZNAME:UTC
DTSTART:20210101T000000
END:STANDARD
END:VTIMEZONE
BEGIN:VEVENT
DTSTART;TZID=UTC:20220406T140000
DTEND;TZID=UTC:20220406T150000
DTSTAMP:20260422T224510
CREATED:20220329T115559Z
LAST-MODIFIED:20220329T115559Z
UID:5865-1649253600-1649257200@librarylive.co.uk
SUMMARY:Cracking Crafts
DESCRIPTION:Pop in to Central Library for cracking creativity. Make some spring and Easter themed crafts to celebrate the start of spring. \nSuitable for families with children under 12. \nFree – just drop in – to help keep our activities free in the future please consider making a donation\, either online or at one of our cash or contactless donation boxes in Central Library
URL:https://librarylive.co.uk/event/cracking-crafts/
LOCATION:Lower Ground Floor Link
CATEGORIES:Family
ATTACH;FMTTYPE=image/jpeg:https://librarylive.co.uk/wp-content/uploads/2022/03/Crafts-scaled.jpg
END:VEVENT
END:VCALENDAR