BEGIN:VCALENDAR
VERSION:2.0
PRODID:-//Library Live - ECPv6.15.13.1//NONSGML v1.0//EN
CALSCALE:GREGORIAN
METHOD:PUBLISH
X-ORIGINAL-URL:https://librarylive.co.uk
X-WR-CALDESC:Events for Library Live
REFRESH-INTERVAL;VALUE=DURATION:PT1H
X-Robots-Tag:noindex
X-PUBLISHED-TTL:PT1H
BEGIN:VTIMEZONE
TZID:UTC
BEGIN:STANDARD
TZOFFSETFROM:+0000
TZOFFSETTO:+0000
TZNAME:UTC
DTSTART:20200101T000000
END:STANDARD
END:VTIMEZONE
BEGIN:VEVENT
DTSTART;TZID=UTC:20211211T100000
DTEND;TZID=UTC:20211211T160000
DTSTAMP:20260423T054547
CREATED:20211109T152523Z
LAST-MODIFIED:20211125T144936Z
UID:5564-1639216800-1639238400@librarylive.co.uk
SUMMARY:Christmas Extravaganza
DESCRIPTION:The whole family is invited to join us for Central Library’s Christmas celebrations! \nWe’ll have choirs singing songs and carols\, Christmas crafts for children and hot chocolate and festive treats to warm you up in the cafe. \nKeep an eye out for the Toy Soldiers who will be popping up during the day. We’ll also be trying to tempt Mr Scrooge to come out of his house and discover the true joy of Christmas. \nOne of the best people to do that is of course Father Christmas himself. I wonder if he will be making an appearance. \nFree – but please consider making a donation if you can either online or at one of our cash or contactless donation boxes in Central Library
URL:https://librarylive.co.uk/event/5564/
LOCATION:Performance Space
CATEGORIES:Family
ATTACH;FMTTYPE=image/jpeg:https://librarylive.co.uk/wp-content/uploads/2021/11/IMG_20201223_163902-e1608741666785.jpg
END:VEVENT
END:VCALENDAR