BEGIN:VCALENDAR
VERSION:2.0
PRODID:-//Library Live - ECPv6.15.13.1//NONSGML v1.0//EN
CALSCALE:GREGORIAN
METHOD:PUBLISH
X-WR-CALNAME:Library Live
X-ORIGINAL-URL:https://librarylive.co.uk
X-WR-CALDESC:Events for Library Live
REFRESH-INTERVAL;VALUE=DURATION:PT1H
X-Robots-Tag:noindex
X-PUBLISHED-TTL:PT1H
BEGIN:VTIMEZONE
TZID:UTC
BEGIN:STANDARD
TZOFFSETFROM:+0000
TZOFFSETTO:+0000
TZNAME:UTC
DTSTART:20230101T000000
END:STANDARD
END:VTIMEZONE
BEGIN:VEVENT
DTSTART;TZID=UTC:20240211T120000
DTEND;TZID=UTC:20240211T160000
DTSTAMP:20260421T094444
CREATED:20240117T153448Z
LAST-MODIFIED:20240118T092201Z
UID:8107-1707652800-1707667200@librarylive.co.uk
SUMMARY:Sunday Funday - Chinese New Year
DESCRIPTION:Join us for a spectacular Chinese New Year celebration of the Year of the Dragon. We will have amazing crafts\, performances\, workshops amongst other exciting activities. Suitable for families. \nThis event is free\, but please consider making a donation to support our Library Live programme if you can\, online\, or at one of our cash or contactless donation boxes in Central Library
URL:https://librarylive.co.uk/event/sunday-funday-chinese-new-year-2/
CATEGORIES:Family
ATTACH;FMTTYPE=image/jpeg:https://librarylive.co.uk/wp-content/uploads/2022/01/CNY.jpg
END:VEVENT
BEGIN:VEVENT
DTSTART;TZID=UTC:20240224T140000
DTEND;TZID=UTC:20240224T150000
DTSTAMP:20260421T094444
CREATED:20220329T135528Z
LAST-MODIFIED:20240214T121023Z
UID:5886-1708783200-1708786800@librarylive.co.uk
SUMMARY:Reading Rascals
DESCRIPTION:Reading Rascals is our very own monthly reading book club for children aged 7-12. Come and join us! \nFor more information and to book\, email angela.rawcliffe@manchester.gov.uk \nPlease make a donation to support our Library Live cultural programme at one of our cash or contactless donation boxes or online
URL:https://librarylive.co.uk/event/reading-rascals/
LOCATION:Lwr Ground Floor – Manchester Histories Hub
CATEGORIES:Family
ATTACH;FMTTYPE=image/jpeg:https://librarylive.co.uk/wp-content/uploads/2022/03/pexels-lina-kivaka-1741230.jpg
END:VEVENT
END:VCALENDAR