BEGIN:VCALENDAR
VERSION:2.0
PRODID:-//Library Live - ECPv6.15.13.1//NONSGML v1.0//EN
CALSCALE:GREGORIAN
METHOD:PUBLISH
X-ORIGINAL-URL:https://librarylive.co.uk
X-WR-CALDESC:Events for Library Live
REFRESH-INTERVAL;VALUE=DURATION:PT1H
X-Robots-Tag:noindex
X-PUBLISHED-TTL:PT1H
BEGIN:VTIMEZONE
TZID:UTC
BEGIN:STANDARD
TZOFFSETFROM:+0000
TZOFFSETTO:+0000
TZNAME:UTC
DTSTART:20220101T000000
END:STANDARD
END:VTIMEZONE
BEGIN:VEVENT
DTSTART;TZID=UTC:20231014T103000
DTEND;TZID=UTC:20231014T123000
DTSTAMP:20260421T154339
CREATED:20230817T083904Z
LAST-MODIFIED:20230904T112415Z
UID:7567-1697279400-1697286600@librarylive.co.uk
SUMMARY:Little Reads Family Day with Nathan Bryon & Dapo Adeola
DESCRIPTION:Author Nathan Bryon and illustrator Dapo Adeola’s loveable character Rocket has already taught us about space in the award-winning Look Up! Then she tackled ocean pollution in Clean Up! Now\, in Speak Up! she’s back to save her local library which she is horrified to learn is closing for lack of funding. Hear how Dapo and Nathan created Rocket and what inspired her adventures in this action-packed event about speaking up for what you believe in. Includes Speak Up! activity trail and crafting. Presented by Manchester Literature Festival. \nSuitable for ages 3 – 6 \nImage credit: Tim Lane\, Penguin Books
URL:https://librarylive.co.uk/event/little-reads-family-day-with-nathan-bryon-dapo-adeola/
LOCATION:Performance Space
CATEGORIES:Family
ATTACH;FMTTYPE=image/jpeg:https://librarylive.co.uk/wp-content/uploads/2023/08/Nathan-portrait-2-CREDIT-TIM-LANE-PENGUIN-BOOKS-copy-lower-res-cropped.jpg
END:VEVENT
BEGIN:VEVENT
DTSTART;TZID=UTC:20231023T103000
DTEND;TZID=UTC:20231023T163000
DTSTAMP:20260421T154339
CREATED:20231013T141819Z
LAST-MODIFIED:20231013T141952Z
UID:7867-1698057000-1698078600@librarylive.co.uk
SUMMARY:The Welcome Roadshow
DESCRIPTION:Get ready Greater Manchester! The Welcome Roadshow is coming to Manchester Central Library on Monday the 23rd this October half term\, bringing the magic of dance\, circus skills and craft workshops. \nWe’re visiting all 10 boroughs in Greater Manchester\, offering FREE workshops. It’s not just about honing your dance\, circus and craft skills; it’s about connecting with your community and finding out more about The Welcome a nine-day extravaganza coming to Aviva Studios this autumn. \nFind out more and book on the workshops here.
URL:https://librarylive.co.uk/event/the-welcome-roadshow/
LOCATION:Performance Space
CATEGORIES:Family
ATTACH;FMTTYPE=image/png:https://librarylive.co.uk/wp-content/uploads/2023/10/TWR_Socials_Roadshow_FBandTwitter.png
END:VEVENT
BEGIN:VEVENT
DTSTART;TZID=UTC:20231029T170000
DTEND;TZID=UTC:20231029T200000
DTSTAMP:20260421T154339
CREATED:20211006T081900Z
LAST-MODIFIED:20230927T092237Z
UID:5457-1698598800-1698609600@librarylive.co.uk
SUMMARY:Spooky Sunday: Horrible Family Halloween Party!
DESCRIPTION:Central Library opens its doors to little spooks and ghouls for a fun-filled family spectacular. Fearsome face painters\, spooky silent disco\, creepy crafts and maybe a few treats and scary surprises. Fancy dress is absolutely encouraged. So dust down your capes\, polish your broomsticks and enjoy a spooktacular evening filled with ghoulish delights! \n£10 per family (maximum in a family on 1 ticket is 3 children and 2 adults) \nPlease note – no unaccompanied adults
URL:https://librarylive.co.uk/event/spooky-sunday-horrible-family-halloween-party/
CATEGORIES:Family
ATTACH;FMTTYPE=image/jpeg:https://librarylive.co.uk/wp-content/uploads/2021/10/halloween-.jpg
END:VEVENT
END:VCALENDAR