BEGIN:VCALENDAR
VERSION:2.0
PRODID:-//Library Live - ECPv6.15.13.1//NONSGML v1.0//EN
CALSCALE:GREGORIAN
METHOD:PUBLISH
X-ORIGINAL-URL:https://librarylive.co.uk
X-WR-CALDESC:Events for Library Live
REFRESH-INTERVAL;VALUE=DURATION:PT1H
X-Robots-Tag:noindex
X-PUBLISHED-TTL:PT1H
BEGIN:VTIMEZONE
TZID:UTC
BEGIN:STANDARD
TZOFFSETFROM:+0000
TZOFFSETTO:+0000
TZNAME:UTC
DTSTART:20220101T000000
END:STANDARD
END:VTIMEZONE
BEGIN:VEVENT
DTSTART;TZID=UTC:20230611T120000
DTEND;TZID=UTC:20230611T160000
DTSTAMP:20260421T222107
CREATED:20230522T121059Z
LAST-MODIFIED:20230522T121115Z
UID:7212-1686484800-1686499200@librarylive.co.uk
SUMMARY:Sunday Funday - Festival of Libraries Celebration
DESCRIPTION:Join us for an afternoon of fun with the family as we celebrate the Festival of Libraries\, showcasing what Central Library has to offer and including our amazing crafts and face painting offers\, amongst many other treats. \nFree – drop in – please make a donation to support our Library Live cultural programme at one of our cash or contactless donation boxes in the venue or online
URL:https://librarylive.co.uk/event/sunday-funday-festival-of-libraries-celebration/
LOCATION:Performance Space
CATEGORIES:Family
ATTACH;FMTTYPE=image/jpeg:https://librarylive.co.uk/wp-content/uploads/2023/05/Sunday-Funday.jpg
END:VEVENT
END:VCALENDAR