BEGIN:VCALENDAR
VERSION:2.0
PRODID:-//Library Live - ECPv6.15.13.1//NONSGML v1.0//EN
CALSCALE:GREGORIAN
METHOD:PUBLISH
X-ORIGINAL-URL:https://librarylive.co.uk
X-WR-CALDESC:Events for Library Live
REFRESH-INTERVAL;VALUE=DURATION:PT1H
X-Robots-Tag:noindex
X-PUBLISHED-TTL:PT1H
BEGIN:VTIMEZONE
TZID:UTC
BEGIN:STANDARD
TZOFFSETFROM:+0000
TZOFFSETTO:+0000
TZNAME:UTC
DTSTART:20210101T000000
END:STANDARD
END:VTIMEZONE
BEGIN:VEVENT
DTSTART;TZID=UTC:20220810T140000
DTEND;TZID=UTC:20220810T153000
DTSTAMP:20260422T143300
CREATED:20220711T130021Z
LAST-MODIFIED:20220712T074104Z
UID:6247-1660140000-1660145400@librarylive.co.uk
SUMMARY:Summer Reading Challenge - Steam Punk Crafts
DESCRIPTION:It’s rusty\, it has cogs and a propellor and it makes a racket…it’s a Steampunk time machine. How do Steampunks get around and what do they wear? Make your own Steampunk time travelling machine or your own Steampunk accessories! No need to book just drop in. Suitable for families. \nFree – drop in – please consider making a donation if you can either online or at one of our cash or contactless donation boxes in Central Library
URL:https://librarylive.co.uk/event/summer-reading-challenge-steam-punk-crafts/
CATEGORIES:Family
ATTACH;FMTTYPE=image/png:https://librarylive.co.uk/wp-content/uploads/2022/07/steampunk-hat.png
END:VEVENT
BEGIN:VEVENT
DTSTART;TZID=UTC:20220812T140000
DTEND;TZID=UTC:20220812T150000
DTSTAMP:20260422T143300
CREATED:20220711T133637Z
LAST-MODIFIED:20220711T133637Z
UID:6253-1660312800-1660316400@librarylive.co.uk
SUMMARY:Summer Reading Challenge - Musical Science
DESCRIPTION:Experimenting with simple upcycled electrical junk\, we will build little noisy contraptions\, learn how they work and make some lovely noise together. Engineer an old speaker to sound like a robot chicken\, and tap a slinky for powerful laser blasts! No need to book just drop in. Suitable for families. \nFree – drop in – please consider making a donation if you can either online or at one of our cash or contactless donation boxes in Central Library
URL:https://librarylive.co.uk/event/summer-reading-challenge-musical-science/
LOCATION:Performance Space
CATEGORIES:Family
ATTACH;FMTTYPE=image/jpeg:https://librarylive.co.uk/wp-content/uploads/2022/07/musical-science.jpg
END:VEVENT
BEGIN:VEVENT
DTSTART;TZID=UTC:20220815T140000
DTEND;TZID=UTC:20220815T160000
DTSTAMP:20260422T143300
CREATED:20220711T135513Z
LAST-MODIFIED:20220711T135513Z
UID:6256-1660572000-1660579200@librarylive.co.uk
SUMMARY:Summer Reading Challenge - Amazing Flying and Flapping Creations
DESCRIPTION:Join Jill to make some wonderful flying creatures\, butterflies\, bats\, birds\, whatever you wish to create.  Why not drop and have a go at making your own. Suitable for families with children aged 12 and under. \nFree – drop in – please consider making a donation if you can either online or at one of our cash or contactless donation boxes in Central Library
URL:https://librarylive.co.uk/event/summer-reading-challenge-amazing-flying-and-flapping-creations/
LOCATION:Performance Space
CATEGORIES:Family
ATTACH;FMTTYPE=image/jpeg:https://librarylive.co.uk/wp-content/uploads/2022/07/SRC-Flying-scaled.jpg
END:VEVENT
BEGIN:VEVENT
DTSTART;TZID=UTC:20220817T140000
DTEND;TZID=UTC:20220817T160000
DTSTAMP:20260422T143300
CREATED:20220712T074632Z
LAST-MODIFIED:20220712T074632Z
UID:6259-1660744800-1660752000@librarylive.co.uk
SUMMARY:Summer Reading Challenge – Amazing Flying and Flapping Creations
DESCRIPTION:Join Jill to make some wonderful flying creatures\, butterflies\, bats\, birds\, whatever you wish to create.  Why not drop and have a go at making your own. Suitable for families with children aged 12 and under. \nFree – drop in – please consider making a donation if you can either online or at one of our cash or contactless donation boxes in Central Library
URL:https://librarylive.co.uk/event/summer-reading-challenge-amazing-flying-and-flapping-creations-2/
CATEGORIES:Family
ATTACH;FMTTYPE=image/jpeg:https://librarylive.co.uk/wp-content/uploads/2022/07/SRC-Flying-scaled.jpg
END:VEVENT
BEGIN:VEVENT
DTSTART;TZID=UTC:20220819T140000
DTEND;TZID=UTC:20220819T150000
DTSTAMP:20260422T143300
CREATED:20220718T112624Z
LAST-MODIFIED:20220718T112624Z
UID:6278-1660917600-1660921200@librarylive.co.uk
SUMMARY:Summer Reading Challenge - Circus skills
DESCRIPTION:Come and try your hand at spinning plates\, diablo\, feather balancing and juggling with The Circus House. The friendly team will be on hand to help you learn some new skills! \nSuitable for all ages and abilities \nFree – to book contact 0161 234 1983
URL:https://librarylive.co.uk/event/summer-reading-challenge-circus-skills/
LOCATION:Performance Space
CATEGORIES:Family
ATTACH;FMTTYPE=image/jpeg:https://librarylive.co.uk/wp-content/uploads/2022/07/Circus-skills-scaled.jpg
END:VEVENT
BEGIN:VEVENT
DTSTART;TZID=UTC:20220823T130000
DTEND;TZID=UTC:20220823T150000
DTSTAMP:20260422T143300
CREATED:20220718T113611Z
LAST-MODIFIED:20220718T113611Z
UID:6280-1661259600-1661266800@librarylive.co.uk
SUMMARY:Summer Reading Challenge - Bridge Building Challenge
DESCRIPTION:How strong is paper? Could you make a bridge out of newspaper? Why not come along and take our challenge? Find out if you can make a structure strong enough to hold a heavy weight. Surprise yourself and amaze your friends in this fun activity. \nSuitable for 7-12 year olds \nFree – just drop in
URL:https://librarylive.co.uk/event/summer-reading-challenge-bridge-building-challenge/
LOCATION:Performance Space
CATEGORIES:Family
ATTACH;FMTTYPE=image/jpeg:https://librarylive.co.uk/wp-content/uploads/2022/07/MWP-MCH-15-10421-scaled.jpg
END:VEVENT
END:VCALENDAR