BEGIN:VCALENDAR
VERSION:2.0
PRODID:-//Library Live - ECPv6.15.13.1//NONSGML v1.0//EN
CALSCALE:GREGORIAN
METHOD:PUBLISH
X-WR-CALNAME:Library Live
X-ORIGINAL-URL:https://librarylive.co.uk
X-WR-CALDESC:Events for Library Live
REFRESH-INTERVAL;VALUE=DURATION:PT1H
X-Robots-Tag:noindex
X-PUBLISHED-TTL:PT1H
BEGIN:VTIMEZONE
TZID:UTC
BEGIN:STANDARD
TZOFFSETFROM:+0000
TZOFFSETTO:+0000
TZNAME:UTC
DTSTART:20210101T000000
END:STANDARD
END:VTIMEZONE
BEGIN:VEVENT
DTSTART;TZID=UTC:20220206T120000
DTEND;TZID=UTC:20220206T160000
DTSTAMP:20260423T002349
CREATED:20220113T131944Z
LAST-MODIFIED:20220128T142028Z
UID:5716-1644148800-1644163200@librarylive.co.uk
SUMMARY:Chinese New Year Celebration
DESCRIPTION:Help us celebrate the Year of the Tiger in Central Library on one of our special Sunday openings. Join in the fun as we offer themed family activities and crafts for everyone to enjoy \n  \nFree – drop in event – please consider making a donation if you can either online or at one of our cash or contactless donation boxes in Central Library
URL:https://librarylive.co.uk/event/chinese-new-year-celebration-2/
CATEGORIES:Family
ATTACH;FMTTYPE=image/jpeg:https://librarylive.co.uk/wp-content/uploads/2022/01/CNY.jpg
END:VEVENT
BEGIN:VEVENT
DTSTART;TZID=UTC:20220221T130000
DTEND;TZID=UTC:20220221T150000
DTSTAMP:20260423T002349
CREATED:20220201T155132Z
LAST-MODIFIED:20220201T155132Z
UID:5785-1645448400-1645455600@librarylive.co.uk
SUMMARY:International Mother Language Day
DESCRIPTION:Communities across Manchester will come together to enjoy an afternoon of celebration for all the family. Sharing their stories\, language\, music\, dance and food\, it is sure to be a joyful gathering. Confirmed for this year are the Lithuanian Community\, and the first time in our event history\, members of both the Libyan and Moroccan Amazigh community will be joining together to share their cultural heritage with everyone. \nFree – drop in event – please consider making a donation if you can either online or at one of our cash or contactless donation boxes in Central Library
URL:https://librarylive.co.uk/event/international-mother-language-day-3/
LOCATION:Performance Space
CATEGORIES:Family
ATTACH;FMTTYPE=image/jpeg:https://librarylive.co.uk/wp-content/uploads/2022/02/Perkunas-group.jpg
END:VEVENT
END:VCALENDAR