BEGIN:VCALENDAR
VERSION:2.0
PRODID:-//Library Live - ECPv6.15.13.1//NONSGML v1.0//EN
CALSCALE:GREGORIAN
METHOD:PUBLISH
X-WR-CALNAME:Library Live
X-ORIGINAL-URL:https://librarylive.co.uk
X-WR-CALDESC:Events for Library Live
REFRESH-INTERVAL;VALUE=DURATION:PT1H
X-Robots-Tag:noindex
X-PUBLISHED-TTL:PT1H
BEGIN:VTIMEZONE
TZID:UTC
BEGIN:STANDARD
TZOFFSETFROM:+0000
TZOFFSETTO:+0000
TZNAME:UTC
DTSTART:20160101T000000
END:STANDARD
END:VTIMEZONE
BEGIN:VEVENT
DTSTART;TZID=UTC:20171120T120000
DTEND;TZID=UTC:20171123T140000
DTSTAMP:20260424T215005
CREATED:20170926T091906Z
LAST-MODIFIED:20171108T112955Z
UID:813-1511179200-1511445600@librarylive.co.uk
SUMMARY:Countdown to Illuminate
DESCRIPTION:In the countdown to Illuminate\, our new site specific piece created for Manchester Central Library by Company Chameleon\, we’re excited to present a series of free countdown events ahead of the main event. \nMon 20 Nov\, 12-2pm | Pop-up: listen\nA lunchtime performance of live music and a chance to hear the new and original soundtrack by award-winning composer\, Miguel Marin\, which features in the Illuminate production. \nTues 21 Nov\, 1pm | Pop-up: see\nChameleon make the street their stage and perform a pop-up dance piece on the plaza outside Central Library’s main entrance. \nWed 22 Nov\, 4-5pm | Preview\nCentral Library open up the sides of the performance space to create a stage for professional dancers from all over the world as they share their own creative responses to Company Chameleon’s powerful and original movement style in an informal presentation. \nThurs 23 Nov\, 10am-5pm | Open rehearsals\nGo behind the scenes and see the rehearsal and pre-production process unfold as Company Chameleon and their ensemble of 60 dancers\, musicians and collaborators take over Central Library\, ahead of the first performance of Illuminate on Friday night. \nFind out more  about the main Illuminate performance.
URL:https://librarylive.co.uk/event/countdown/
CATEGORIES:Dance
ATTACH;FMTTYPE=image/jpeg:https://librarylive.co.uk/wp-content/uploads/2017/09/JCF0593.jpg
END:VEVENT
BEGIN:VEVENT
DTSTART;TZID=UTC:20171124T080000
DTEND;TZID=UTC:20171125T170000
DTSTAMP:20260424T215005
CREATED:20170926T090016Z
LAST-MODIFIED:20171108T111231Z
UID:810-1511510400-1511629200@librarylive.co.uk
SUMMARY:Illuminate: a journey of seven stories
DESCRIPTION:Please note: Illuminate is now sold out\, however\, you can join the waiting list for a chance to still get tickets. Plus\, why not join us for the free countdown events taking place across the Library’s spaces between 20-24 Nov. \nNew dance\, music and light art combine in this visually stunning and extraordinary site-specific piece created by Company Chameleon at the iconic Manchester Central Library. \nSeven stories have underpinned literature since the beginning of time and this is their contemporary reimagining. From the inner monster to the superhero\, from the tragedy of division to the pure joy of true love\, Illuminate explores the stories that help us to understand ourselves\, and our place in the world in which we live. \nSeven scenes in seven spaces will take you to the past\, present and future in a captivating mix of live performance around Central Library. As light art twists interiors and shifts perceptions\, and an original and live soundtrack plays out\, a rich blend of dance and movement will take you on a journey like no other. \nFeaturing international artists\, rising talents and homegrown performers\, Illuminate will be brought to life by an ensemble of 60 dancers\, musicians and collaborators\, for what promises to be a transformative and immersive cultural experience at Central Library. \nDon’t miss the free countdown events taking place at the Library from Monday 20th to Thursday 23rd November in the lead up to Illuminate – find out more.
URL:https://librarylive.co.uk/event/illuminate-journey-seven-stories/
CATEGORIES:Dance
ATTACH;FMTTYPE=image/png:https://librarylive.co.uk/wp-content/uploads/2017/09/Library-Live-Header-07.png
END:VEVENT
END:VCALENDAR