BEGIN:VCALENDAR
VERSION:2.0
PRODID:-//Library Live - ECPv6.15.13.1//NONSGML v1.0//EN
CALSCALE:GREGORIAN
METHOD:PUBLISH
X-WR-CALNAME:Library Live
X-ORIGINAL-URL:https://librarylive.co.uk
X-WR-CALDESC:Events for Library Live
REFRESH-INTERVAL;VALUE=DURATION:PT1H
X-Robots-Tag:noindex
X-PUBLISHED-TTL:PT1H
BEGIN:VTIMEZONE
TZID:UTC
BEGIN:STANDARD
TZOFFSETFROM:+0000
TZOFFSETTO:+0000
TZNAME:UTC
DTSTART:20170101T000000
END:STANDARD
END:VTIMEZONE
BEGIN:VEVENT
DTSTART;TZID=UTC:20180618T180000
DTEND;TZID=UTC:20180618T200000
DTSTAMP:20260424T093128
CREATED:20180530T142044Z
LAST-MODIFIED:20180530T142044Z
UID:1825-1529344800-1529352000@librarylive.co.uk
SUMMARY:Chameleon Youth - Free Taster Session
DESCRIPTION:CALL OUT FOR YOUNG DANCE ARTISTS – CHAMELEON YOUTH IS RECRUITING! \nBe part of a dance company that is inspiring and different to the mainstream. \nChameleon Youth\, Manchester’s youth dance company\, is calling out for new members for 2018/19. If you’re age 11 to 21\, this is an incredible opportunity to be part of a dance company that is inspiring and different to the mainstream.  \nBased in Central Manchester and launched in 2016 by Company Chameleon\, members of the youth company learn directly from a professional dance company\, which for ten years\, has toured and performed across the world giving new meaning to dance and movement.  \nAs a member of Chameleon Youth\, you will have the opportunity to: \n\nTrain weekly with Company Chameleon’s professional dance artists.\nCreate your own work and develop your own unique movement style.\nTake part in regular performance opportunities throughout the year.\n\nWant to get involved? \nCompany Chameleon will be hosting this FREE TASTER SESSION in the Performance Space at Manchester Central Library.
URL:https://librarylive.co.uk/event/chameleon-youth-free-taster-session-3/
LOCATION:Performance Space
CATEGORIES:Dance
ATTACH;FMTTYPE=image/png:https://librarylive.co.uk/wp-content/uploads/2018/05/Screen-Shot-2018-05-22-at-12.47.35.png
END:VEVENT
BEGIN:VEVENT
DTSTART;TZID=UTC:20180625T180000
DTEND;TZID=UTC:20180625T200000
DTSTAMP:20260424T093128
CREATED:20180530T142929Z
LAST-MODIFIED:20180530T142929Z
UID:1833-1529949600-1529956800@librarylive.co.uk
SUMMARY:Chameleon Youth - Free Taster Session
DESCRIPTION:CALL OUT FOR YOUNG DANCE ARTISTS – CHAMELEON YOUTH IS RECRUITING! \nBe part of a dance company that is inspiring and different to the mainstream. \nChameleon Youth\, Manchester’s youth dance company\, is calling out for new members for 2018/19. If you’re age 11 to 21\, this is an incredible opportunity to be part of a dance company that is inspiring and different to the mainstream.  \nBased in Central Manchester and launched in 2016 by Company Chameleon\, members of the youth company learn directly from a professional dance company\, which for ten years\, has toured and performed across the world giving new meaning to dance and movement.  \nAs a member of Chameleon Youth\, you will have the opportunity to: \n\nTrain weekly with Company Chameleon’s professional dance artists.\nCreate your own work and develop your own unique movement style.\nTake part in regular performance opportunities throughout the year.\n\nWant to get involved? \nCompany Chameleon will be hosting this FREE TASTER SESSION in the Performance Space at Manchester Central Library.
URL:https://librarylive.co.uk/event/chameleon-youth-free-taster-session-4/
LOCATION:Performance Space
CATEGORIES:Dance
ATTACH;FMTTYPE=image/png:https://librarylive.co.uk/wp-content/uploads/2018/05/Screen-Shot-2018-05-22-at-12.47.35.png
END:VEVENT
END:VCALENDAR