BEGIN:VCALENDAR
VERSION:2.0
PRODID:-//Library Live - ECPv6.15.13.1//NONSGML v1.0//EN
CALSCALE:GREGORIAN
METHOD:PUBLISH
X-WR-CALNAME:Library Live
X-ORIGINAL-URL:https://librarylive.co.uk
X-WR-CALDESC:Events for Library Live
REFRESH-INTERVAL;VALUE=DURATION:PT1H
X-Robots-Tag:noindex
X-PUBLISHED-TTL:PT1H
BEGIN:VTIMEZONE
TZID:UTC
BEGIN:STANDARD
TZOFFSETFROM:+0000
TZOFFSETTO:+0000
TZNAME:UTC
DTSTART:20160101T000000
END:STANDARD
END:VTIMEZONE
BEGIN:VEVENT
DTSTART;TZID=UTC:20170930T140000
DTEND;TZID=UTC:20170930T160000
DTSTAMP:20260424T232231
CREATED:20170831T153311Z
LAST-MODIFIED:20170831T153854Z
UID:772-1506780000-1506787200@librarylive.co.uk
SUMMARY:Celebrate 'Older People's Day' at Swing Time!
DESCRIPTION:Think you know your Lindy Hop from your Charleston or your Slow Drag from your St Louis Shag? \nWe’re celebrating Older People’s Day with a smooth afternoon of jazz classics featuring the fabulous Rachel Rogers and the Swing Kings!! \n \nThe afternoon also includes welcome mocktails on arrival and interval treats of tea\, coffee and cakes for everyone! \nThis is a free event and all ages are welcome to join the fun\, but tickets are limited. Please call 0161 234 1932 asap to book tickets. \n 
URL:https://librarylive.co.uk/event/swing-time/
LOCATION:Performance Space
CATEGORIES:Dance
ATTACH;FMTTYPE=image/jpeg:https://librarylive.co.uk/wp-content/uploads/2017/08/swingdance_featureimage.jpg
END:VEVENT
END:VCALENDAR