BEGIN:VCALENDAR
VERSION:2.0
PRODID:-//Library Live - ECPv6.15.13.1//NONSGML v1.0//EN
CALSCALE:GREGORIAN
METHOD:PUBLISH
X-WR-CALNAME:Library Live
X-ORIGINAL-URL:https://librarylive.co.uk
X-WR-CALDESC:Events for Library Live
REFRESH-INTERVAL;VALUE=DURATION:PT1H
X-Robots-Tag:noindex
X-PUBLISHED-TTL:PT1H
BEGIN:VTIMEZONE
TZID:UTC
BEGIN:STANDARD
TZOFFSETFROM:+0000
TZOFFSETTO:+0000
TZNAME:UTC
DTSTART:20180101T000000
END:STANDARD
END:VTIMEZONE
BEGIN:VEVENT
DTSTART;TZID=UTC:20190215T200000
DTEND;TZID=UTC:20190215T223000
DTSTAMP:20260423T152455
CREATED:20190118T165258Z
LAST-MODIFIED:20190131T155011Z
UID:2843-1550260800-1550269800@librarylive.co.uk
SUMMARY:Drag Queen Bingo
DESCRIPTION:SORRY\, THIS EVENT IS NOW SOLD OUT \nWelcome to our first Drag Queen Bingo Night at Central Library. \nWe are proud to present the fabulous Angel Delight for a practically perfect evening of comedy\, fun and frolics. Angel will be your gorgeous host for the evening\, that will also feature Mary Poppins as you’ve never seen her before… \nWe’ll also be having the odd game of bingo\, but not as you know it! \nBIG Bingo Prizes to be won on the night. \nDoors open at 7.30pm. Bar will be open all evening. \nThis event is part of our LGBTQ History Month Celebrations. For the full programme of events go to https://manclibraries.blog
URL:https://librarylive.co.uk/event/drag-queen-bingo/
LOCATION:Performance Space
CATEGORIES:Comedy
ATTACH;FMTTYPE=image/jpeg:https://librarylive.co.uk/wp-content/uploads/2019/01/angel-delight.jpg
END:VEVENT
END:VCALENDAR