BEGIN:VCALENDAR
VERSION:2.0
PRODID:-//Library Live - ECPv6.15.13.1//NONSGML v1.0//EN
CALSCALE:GREGORIAN
METHOD:PUBLISH
X-ORIGINAL-URL:https://librarylive.co.uk
X-WR-CALDESC:Events for Library Live
REFRESH-INTERVAL;VALUE=DURATION:PT1H
X-Robots-Tag:noindex
X-PUBLISHED-TTL:PT1H
BEGIN:VTIMEZONE
TZID:UTC
BEGIN:STANDARD
TZOFFSETFROM:+0000
TZOFFSETTO:+0000
TZNAME:UTC
DTSTART:20210101T000000
END:STANDARD
END:VTIMEZONE
BEGIN:VEVENT
DTSTART;TZID=UTC:20220727T140000
DTEND;TZID=UTC:20220727T193000
DTSTAMP:20260421T205725
CREATED:20220706T093921Z
LAST-MODIFIED:20220706T094103Z
UID:6240-1658930400-1658950200@librarylive.co.uk
SUMMARY:Suhaiymah Manzoor-Khan - Workshop and Book Launch
DESCRIPTION:Suhaiymah Manzoor-Khan is a writer\, poet\, educator and activist\, disrupting ideas of history\, race\, knowledge and violence\, co-author of A Fly Girl’s Guide to University  (Verve Poetry Press\, 2019) and author of Postcolonial Banter (Verve Poetry Press\, 2019). In the afternoon from 2pm she will be leading a workshop for young people aged 16+ centred around her new book Tangled In Terror\, Uprooting Islamophobia (Pluto Press\, 2022); the workshop will explore concepts such as identity and belonging. \nThe workshop will be followed in the evening from 6pm by a reading and book launch of Tangled In Terror with Suhaiymah Manzoor-Khan\, chaired by Dr Nisha Kapoor\, Associate Professor in Sociology at the University of Warwick and author of Deport\, Deprive\, Extradite – 21st Century State Extremism\, and ending with a Q&A session with Suhaiymah. \nBoth events are free and can be booked through Eventbrite: \nWorkshop (starts at 2pm): https://SuhaiymahWorkshop.eventbrite.co.uk \nReading and book launch (starts at 6pm): https://SuhaiymahBooklaunch.eventbrite.co.uk
URL:https://librarylive.co.uk/event/suhaiymah-manzoor-khan-workshop-and-book-launch/
LOCATION:Performance Space
CATEGORIES:Book Launch,Workshops
ATTACH;FMTTYPE=image/jpeg:https://librarylive.co.uk/wp-content/uploads/2022/07/Suhaiymah.jpg
END:VEVENT
END:VCALENDAR