BEGIN:VCALENDAR
VERSION:2.0
PRODID:-//Library Live - ECPv6.15.13.1//NONSGML v1.0//EN
CALSCALE:GREGORIAN
METHOD:PUBLISH
X-ORIGINAL-URL:https://librarylive.co.uk
X-WR-CALDESC:Events for Library Live
REFRESH-INTERVAL;VALUE=DURATION:PT1H
X-Robots-Tag:noindex
X-PUBLISHED-TTL:PT1H
BEGIN:VTIMEZONE
TZID:UTC
BEGIN:STANDARD
TZOFFSETFROM:+0000
TZOFFSETTO:+0000
TZNAME:UTC
DTSTART:20210101T000000
END:STANDARD
END:VTIMEZONE
BEGIN:VEVENT
DTSTART;TZID=UTC:20220825T193000
DTEND;TZID=UTC:20220825T203000
DTSTAMP:20260421T173705
CREATED:20220705T152517Z
LAST-MODIFIED:20220725T113032Z
UID:6234-1661455800-1661459400@librarylive.co.uk
SUMMARY:An Evening with Ella Mills
DESCRIPTION:Manchester Libraries\, Waterstones Booksellers and Hodder Books present this special evening with bestselling food writer Ella Mills.\nJoin inspirational bestselling food writer Ella Mills\, founder of Deliciously Ella\, for a special event to celebrate the release of her latest book\, How to Go Plant-Based. \nIn How to Go Plant-Based\, Ella debunks the common myths surrounding a plant-based diet\, shares her experiences of cooking as a family and emphasises the importance of making the plant-based diet accessible for all ages. How to Go Plant-Based is not just a simple cookery book\, but a guide that incorporates scientific research and data to help families put together balanced meals with family friendly recipes.
URL:https://librarylive.co.uk/event/an-evening-with-ella-mills/
LOCATION:Performance Space
CATEGORIES:Book Launch,Signing
ATTACH;FMTTYPE=image/png:https://librarylive.co.uk/wp-content/uploads/2022/07/ella.png
END:VEVENT
BEGIN:VEVENT
DTSTART;TZID=UTC:20220831T183000
DTEND;TZID=UTC:20220831T193000
DTSTAMP:20260421T173705
CREATED:20220705T134858Z
LAST-MODIFIED:20220803T093431Z
UID:6223-1661970600-1661974200@librarylive.co.uk
SUMMARY:Tsitsi Dangarembga: Black and Female
DESCRIPTION:Tsitsi Dangarembga will be in conversation with Naomi Frisby. \nBeing categorised as black and female does not constrain my writing. Writing assures me that I am more than merely blackness and femaleness. Writing assures me I am. \nThis paradigm shifting essay collection weaves the personal and political in an illuminating exploration of internationally acclaimed novelist Tsitsi Dangarembga’s complex relationship  with race and gender. \nAt once philosophical\, intimate and urgent\, Dangarembga’s landmark essays address the profound cultural and political questions that underpin her novels for the first time. \nFrom her experience of life with a foster family in Dover and the difficulty of finding a publisher as a young Zimbabwean novelist\, to the ways in which colonialism continues to disrupt the lives and minds of those subjugated by empire\, Dangarembga writes to recentre marginalised voices. \nBlack and Female offers a powerful vision towards ‘re-membering’ – to use Toni Morrison’s word – those whose identities and  experiences continue to be fractured by the intersections of history\, race and gender. \nBlackwells Bookstore will be selling copies of Tsitsi’s new book and back catalogue on the night.
URL:https://librarylive.co.uk/event/tsitsi-dangarembga-black-and-female/
LOCATION:Performance Space
CATEGORIES:Book Launch
ATTACH;FMTTYPE=image/png:https://librarylive.co.uk/wp-content/uploads/2022/07/Tsitsi.png
END:VEVENT
END:VCALENDAR