BEGIN:VCALENDAR
VERSION:2.0
PRODID:-//Library Live - ECPv6.15.13.1//NONSGML v1.0//EN
CALSCALE:GREGORIAN
METHOD:PUBLISH
X-ORIGINAL-URL:https://librarylive.co.uk
X-WR-CALDESC:Events for Library Live
REFRESH-INTERVAL;VALUE=DURATION:PT1H
X-Robots-Tag:noindex
X-PUBLISHED-TTL:PT1H
BEGIN:VTIMEZONE
TZID:UTC
BEGIN:STANDARD
TZOFFSETFROM:+0000
TZOFFSETTO:+0000
TZNAME:UTC
DTSTART:20210101T000000
END:STANDARD
END:VTIMEZONE
BEGIN:VEVENT
DTSTART;TZID=UTC:20220310T183000
DTEND;TZID=UTC:20220310T200000
DTSTAMP:20260422T013901
CREATED:20211209T143852Z
LAST-MODIFIED:20211209T143852Z
UID:5671-1646937000-1646942400@librarylive.co.uk
SUMMARY:Okechukwu Nzelu - HERE AGAIN NOW Book Launch
DESCRIPTION:Join us at Manchester Central Library for the launch of Okechukwu Nzelu’s new book HERE AGAIN NOW.\n\n\n\n\n\nAbout this event\n\n\nWe’re delighted to be working with Blackwells Books to host the launch of Okechukwu Nzelu’s latest book HERE AGAIN NOW – a heart-breaking and immensely uplifting novel about lovers\, fathers and sons which shows the power of family – both the one into which we are born and those we choose for ourselves. Okechukwu will be in conversation with Andrew McMillan. \nAbout the book: \nAchike Okoro feels like his life is coming together at last. His top-floor flat in Peckham is as close to home as he can imagine and after years of hard work\, he’s about to get his break as an actor. He’s even persuaded his father\, Chibuike\, to move in with him\, grateful to offer the man who raised him as a single parent a home of his own. \nBetween filming trips\, Achike is snatching a few days in London with Ekene\, his best friend of twenty years\, the person who makes him feel whole. Achike can put the terrible things that happened behind him at last; everything is going to be alright. Maybe even better. \nBut after a magical night\, when Achike and Ekene come within a hair’s breadth of admitting their feelings for each other\, a devastating event rips all three men apart. In the aftermath\, it is Ekene and Chibuike who must try to rebuild. And although they have never truly understood each other\, grief may bring them both the peace and happiness they’ve been searching for… \nAbout the author: \nOkechukwu Nzelu is a writer and teacher. In 2015 he was the recipient of a New Writing North Award. In 2020 his debut novel\, The Private Joys of Nnenna Maloney\, won a Betty Trask Award and was shortlisted for the Betty Trask Prize\, the Desmond Elliott Prize\, and the Polari First Book Prize. He lives in Manchester and is a Lecturer in Creative Writing at the University of Lancaster. \nThis event is being held at Manchester Central Library. \nDoors: 18.00\, event starts: 18.30 \nTickets are £3.00 or free when pre-ordering a copy of the book. HERE AGAIN NOW will also be available to purchase on the night and Okechukwu will be signing copies after the talk. If you would like a signed copy but cannot make the event\, please contact Blackwell’s Books on 0161 274 3331 or manchester@blackwell.co.uk and we can arrange this for you.
URL:https://librarylive.co.uk/event/okechukwu-nzelu-here-again-now-book-launch/
LOCATION:Performance Space
CATEGORIES:Book Launch
ATTACH;FMTTYPE=image/jpeg:https://librarylive.co.uk/wp-content/uploads/2021/12/okey-banner.jpg
END:VEVENT
BEGIN:VEVENT
DTSTART;TZID=UTC:20220316T183000
DTEND;TZID=UTC:20220317T200000
DTSTAMP:20260422T013901
CREATED:20220124T111301Z
LAST-MODIFIED:20220201T092744Z
UID:5730-1647455400-1647547200@librarylive.co.uk
SUMMARY:Crime Festival
DESCRIPTION:A CELEBRATION OF THE BEST CRIME WRITERS IN MANCHESTER\nWednesday 16th March – Cath Staincliffe\, Joseph Knox and Karen Woods.\nThursday 17th March – Mandasue Heller\, Alex Caan\, Chris Simms and S J Watson.\nFriday 18th March – After Dark Entertainment presents: ‘An Invitation to Murder’ Murder Mystery Night\n\n\n\n\n\n\n\n\n\nHosted by the brilliant author Rob Parker.\nRob Parker lives near Warrington\, UK. The author of the Ben Bracken thrillers and the standalone post-Brexit country-noir Crook’s Hollow. \n​Rob writes full time\, as well as organising and attending various author events across the UK. Passionate about inspiring a love of the written word in young people\, he spends a lot of time in schools across the North West\, encouraging literacy\, storytelling and creative-writing. ​He is also a co-host of the For Your Reconsideration film podcast\, and a regular voice on the Blood Brothers crime book podcast. \n​Here’s some more information about the authors appearing.\n\n\n\n\n\n\n\n\n\nCath Staincliffe\nCath was brought up in Bradford then moved to work as a community artist in Manchester where she now lives with her family. \nLooking for Trouble\, published in 1994\, launched private eye Sal\, a single parent struggling to juggle work and home\, onto Manchester’s mean streets. Cath has published a further seven Sal Kilkenny mysteries. \nCath is also a scriptwriter\, creator of ITV’s hit police drama\, Blue Murder\, she was also commissioned to write the Scott & Bailey books and writes for Danny Brocklehurst’s Stone detective drama. \nShe is now writing a series of stand-alone novels where ordinary families find themselves caught up in extraordinary events. Cath is a founder member of Murder Squad\, a virtual collective of northern crime writers. \n\n\n\n\n\n\n\n\n\nJoseph Knox\nJoseph Knox was born and raised in and around Stoke-On-Trent and Manchester\, where he worked in bars and bookshops before moving to London. He runs\, writes and reads compulsively. \nSirens\, his debut novel\, was a Sunday Times bestseller\, and his work has now been translated into 18 languages. \nHis latest novel ‘True Crime Story’ was published in 2021. The Times described it as ‘Scandalously entertaining…Knox is a fantastic writer. His ambitious fourth novel satirises and celebrates the true-crime genre with glee … by turns horrific and hilarious’ – Mark Sanderson. \n\n\n\n\n\n\n\n\n\nKaren Woods\nKaren was born and raised in the City Of Manchester and is proud to be a Mancunian! Being raised within an inner city area inspired Karen to take an unorthodox and very well received approach within her writing. \nKaren left school without any formal qualifications and obtained her inspiration from attending an adult literacy course which was offered by her former employers. \nKaren writes from the heart and always keeps it real to life\, and she writes about subjects we can all relate too. Having lived a colourful life she uses her own experiences to write her books. Her fan base is growing every day and soon everyone will know the name Karen Woods. \nKaren believes that everyone has the power to to change their lives around with self belief and determination. “Life doesn’t give. We have to take what we can.” . \n \nMandasue Heller\nAfter moving to Manchester in the early 80’s\, Mandasue immersed herself in the underground music scene. Forced by illness to temporarily quit singing in the 90’s\, she turned her hand to writing\, using the notorious Hulme Crescents\, where she had spent her first 10 years in Manchester\, as the backdrop. \nHer first written piece concerned a real-life incident\, when a man had broken into her house in the early hours and attacked her with a claw-hammer\, fracturing her skull. But it was the psychological after-effects that affected her most deeply\, and she hoped that writing about it would exorcise the hold it still had over her. The finished piece was too personal for anybody else to read\, but she had enjoyed the process of writing\, so decided to try her hand at fiction instead – and her first book\, The Front\, was snapped up by Hodder & Stoughton. She has written 13 books since then\, and is currently working on the 14th. \nMother to 3 grown children\, and grandmother of 3\, Mandasue still lives in Manchester\, and spends her time between books and family commitments locked away in the studio\, writing and recording music albums. \n\n\n\n\n\n\n\n\n\nAlex Caan\nAlex Caan has spent over a decade working in Information Systems Security for a number of government organisations\, and is currently specialising in Terrorism Studies. A lifetime passion for writing was sparked by the encouraging words of an English Teacher in school\, and eventually led to Alex successfully completing an MA in Creative Writing\, and write Cut to the Bone. \nCut to the Bone has been a Kindle Number 1 bestseller\, was picked as a WH Smith ‘Everyone’s Talking About’ book of the week\, chosen as Sainsbury’s best of summer reads and was Angela Marson’s pick for crime novel recommendation of the year. Alex Caan was also a rising star on Amazon in 2016. \nFirst To Die\, the shocking sequel to Cut to the Bone\, was released June 14th 2018. \nHis latest novel The Unbroken is out now. \n\n\n\n\n\n\n\n\n\nChris Simms\nChris Simms has worked in airports\, nightclubs\, post offices and telesales centres. Along with nominations for Crime Writers’ Association Daggers and the Theakston’s Crime Novel of the Year award for his novels and short stories\, Chris was selected by Waterstones as one of their ’25 Authors for the Future’. \nThe idea for his debut novel\, Outside the White Lines\, came to him in the early hours of the morning while broken down on the hard shoulder of the M40. \nHis series of DI Spicer novels – psychological thrillers set very firmly in Manchester – follow the police detective’s fortunes as he pursues mad\, bad and deadly individuals through the city’s ever-evolving landscape. \nIn October 2012\, Scratch Deeper was launched – a new series featuring Detective Constable Iona Khan of Manchester Police’s Counter Terrorism Unit. This was followed-up by another DC Khan novel\, A Price To Pay. \nDark Angel\, the 9th DI Spicer novel was published in January 2021. \n\n\n\n\n\n\n\n\n\nS J Watson\nS J Watson’s first novel\, Before I Go To Sleep\, became a phenomenal international success and has now sold over 6\,000\,000 copies worldwide. It won the Crime Writers’ Association Award for Best Debut Novel and the Galaxy National Book Award for Crime Thriller of the Year and has been translated into more than 40 languages. \nThe film of the book\, starring Nicole Kidman\, Colin Firth and Mark Strong\, and directed by Rowan Joffe\, was released in September 2014. S J Watson’s second novel\, Second Life\, a psychological thriller\, was published to acclaim in 2015. His new novel Final Cut is out now.
URL:https://librarylive.co.uk/event/manchester-libraries-crime-festival/
LOCATION:Performance Space
CATEGORIES:Author Event,Book Launch,Performance,Readings
ATTACH;FMTTYPE=image/jpeg:https://librarylive.co.uk/wp-content/uploads/2022/01/Crime-Festival-Header.jpg
END:VEVENT
END:VCALENDAR