BEGIN:VCALENDAR
VERSION:2.0
PRODID:-//Library Live - ECPv6.15.13.1//NONSGML v1.0//EN
CALSCALE:GREGORIAN
METHOD:PUBLISH
X-WR-CALNAME:Library Live
X-ORIGINAL-URL:https://librarylive.co.uk
X-WR-CALDESC:Events for Library Live
REFRESH-INTERVAL;VALUE=DURATION:PT1H
X-Robots-Tag:noindex
X-PUBLISHED-TTL:PT1H
BEGIN:VTIMEZONE
TZID:UTC
BEGIN:STANDARD
TZOFFSETFROM:+0000
TZOFFSETTO:+0000
TZNAME:UTC
DTSTART:20220101T000000
END:STANDARD
END:VTIMEZONE
BEGIN:VEVENT
DTSTART;TZID=UTC:20230323T180000
DTEND;TZID=UTC:20230323T193000
DTSTAMP:20260421T113731
CREATED:20230314T132101Z
LAST-MODIFIED:20230314T132101Z
UID:6979-1679594400-1679599800@librarylive.co.uk
SUMMARY:Crime Central
DESCRIPTION:Rob Parker returns to host another Crime Central author panel! Special guests will be..\nNick Oldham used to work as a police officer in Lancashire before retiring to be a full time crime writer and creator of the hugely popular Henry Christie series. \nSally-Anne Martyn grew up just outside Sheffield. Her debut novel\, ‘The Clinic’\, is a dark thriller set in an ex-asylum! \nAlex North is the creator of the Sunday Times and New York Times bestselling ‘Whisper Man’. His new novel ‘The Half Burnt House’ is out this month. \n\n\n\n\nAs a special treat\, everyone who books tickets will be entered into a prize draw to win a bottle of fizz and the first two Thursday Murder Club novels by Richard Osman! \nThe winner will be announced during the event on 23rd March
URL:https://librarylive.co.uk/event/crime-central-6/
LOCATION:Performance Space
CATEGORIES:Author Event
ATTACH;FMTTYPE=image/jpeg:https://librarylive.co.uk/wp-content/uploads/2023/03/CC-March-23-.jpg
END:VEVENT
END:VCALENDAR