BEGIN:VCALENDAR
VERSION:2.0
PRODID:-//Library Live - ECPv6.15.13.1//NONSGML v1.0//EN
CALSCALE:GREGORIAN
METHOD:PUBLISH
X-WR-CALNAME:Library Live
X-ORIGINAL-URL:https://librarylive.co.uk
X-WR-CALDESC:Events for Library Live
REFRESH-INTERVAL;VALUE=DURATION:PT1H
X-Robots-Tag:noindex
X-PUBLISHED-TTL:PT1H
BEGIN:VTIMEZONE
TZID:UTC
BEGIN:STANDARD
TZOFFSETFROM:+0000
TZOFFSETTO:+0000
TZNAME:UTC
DTSTART:20220101T000000
END:STANDARD
END:VTIMEZONE
BEGIN:VEVENT
DTSTART;TZID=UTC:20230322T183000
DTEND;TZID=UTC:20230322T193000
DTSTAMP:20260421T113615
CREATED:20230201T183436Z
LAST-MODIFIED:20230301T131220Z
UID:6897-1679509800-1679513400@librarylive.co.uk
SUMMARY:Harlan Coben: SOLD OUT EVENT
DESCRIPTION:We’re delighted to welcome Harlan Coben to Manchester Central Library to celebrate the publication of his new novel I Will Find You.  From the bestselling author of The Match and Tell No One comes a twist-laden page-turner of the highest order as a man wrongly convicted of killing his son escapes from prison to find out the truth. \nWith more than 80 million books in print worldwide\, Harlan Coben is the Number One New York Times author of numerous suspense novels including Win\, The Boy from the Woods\, Run Away\, Fool Me Once and the renowned Myron Bolitar series.  His books are published in 46 languages around the globe and have been number one bestsellers in more than a dozen countries. \nCoben is also the creator and executive producer of many television shows including adaptions on Netflix of Stay Close\, The Stranger\, The Innocent\, Gone for Good and The Woods.  Netflix recently re-upped their overall deal with Coben for several more years \, adding among other books his acclaimed Bolitar series.  His TV series adaption of Shelter for Amazon Studios – starring Jaden Michael and Constance Zimmer and based on Coben’s YA novel of the same name – will be released on Prime Video in 2023. \nPlease note: Book and ticket option includes a copy of I Will Find You for collection on the night. 
URL:https://librarylive.co.uk/event/an-evening-with-harlan-coben/
LOCATION:Performance Space
CATEGORIES:Author Event,Signing
ATTACH;FMTTYPE=image/jpeg:https://librarylive.co.uk/wp-content/uploads/2023/02/coban.jpg
END:VEVENT
END:VCALENDAR