BEGIN:VCALENDAR
VERSION:2.0
PRODID:-//Library Live - ECPv6.15.13.1//NONSGML v1.0//EN
CALSCALE:GREGORIAN
METHOD:PUBLISH
X-WR-CALNAME:Library Live
X-ORIGINAL-URL:https://librarylive.co.uk
X-WR-CALDESC:Events for Library Live
REFRESH-INTERVAL;VALUE=DURATION:PT1H
X-Robots-Tag:noindex
X-PUBLISHED-TTL:PT1H
BEGIN:VTIMEZONE
TZID:UTC
BEGIN:STANDARD
TZOFFSETFROM:+0000
TZOFFSETTO:+0000
TZNAME:UTC
DTSTART:20210101T000000
END:STANDARD
END:VTIMEZONE
BEGIN:VEVENT
DTSTART;TZID=UTC:20221103T180000
DTEND;TZID=UTC:20221103T193000
DTSTAMP:20260421T175201
CREATED:20220927T114459Z
LAST-MODIFIED:20220930T072428Z
UID:6543-1667498400-1667503800@librarylive.co.uk
SUMMARY:Crime Central
DESCRIPTION:Crime Central returns in November with three more amazing writers! \nLauren North – writes psychological suspense novels that delve into the darker side of relationships and families. Lauren’s love of psychological suspense has grown since childhood and from her dark imagination of always wondering what’s the worst thing that could happen in every situation. \nRoger Price – spent over 30 years as a Detective Inspector in the Lancashire Police Force\, the Regional Crime Squad and the National Crime Squad before leaving to concentrate fulltime on writing best selling crime novels. \nLaure Van Rensburg – is a French writer living in the UK and an Ink Academy alumna. Her stories have appeared in online magazines and anthologies such as Litro Magazine\, Storgy Magazine\, The Real Jazz Baby\, Best Anthology\, Saboteur Awards 2020). \nHosted by the wonderful Rob Parker. \nPLEASE NOTE: Tickets for this event are on a “pay what you can” basis. They range from £2 – £8 plus the Eventbrite booking fee. \nAll tickets allow the same access to the event. This is a just a pricing system to accommodate for individual financial circumstances.
URL:https://librarylive.co.uk/event/crime-central-4/
LOCATION:Performance Space
CATEGORIES:Author Event
ATTACH;FMTTYPE=image/jpeg:https://librarylive.co.uk/wp-content/uploads/2022/09/Nov-Book-Covers-.jpg
END:VEVENT
END:VCALENDAR