BEGIN:VCALENDAR
VERSION:2.0
PRODID:-//Library Live - ECPv6.15.13.1//NONSGML v1.0//EN
CALSCALE:GREGORIAN
METHOD:PUBLISH
X-ORIGINAL-URL:https://librarylive.co.uk
X-WR-CALDESC:Events for Library Live
REFRESH-INTERVAL;VALUE=DURATION:PT1H
X-Robots-Tag:noindex
X-PUBLISHED-TTL:PT1H
BEGIN:VTIMEZONE
TZID:UTC
BEGIN:STANDARD
TZOFFSETFROM:+0000
TZOFFSETTO:+0000
TZNAME:UTC
DTSTART:20180101T000000
END:STANDARD
END:VTIMEZONE
BEGIN:VEVENT
DTSTART;TZID=UTC:20191130T190000
DTEND;TZID=UTC:20191130T203000
DTSTAMP:20260424T032857
CREATED:20190823T140550Z
LAST-MODIFIED:20190823T140756Z
UID:3869-1575140400-1575145800@librarylive.co.uk
SUMMARY:Val McDermid & Denise Mina
DESCRIPTION:Manchester Literature Festival presents… \nQueens of Tartan Noir\, Val McDermid and Denise Mina\, join us to discuss their brilliant new novels. In How the Dead Speak\, Val brings Dr Tony Hill and DCI Carol Jordan together again when the remains of a killer\, who’s supposedly alive and in prison\, are found on a construction site. In Conviction\, Denise weaves together the break-up of Anna McDonald’s marriage and a true crime podcast\, to force Anna to confront her hidden past. \nVal is the highly acclaimed writer of over 40 books including The Wire in the Blood and Denise won the Gordon Burn Prize for The Long Drop. Presented in partnership with the Centre for New Writing and Creative Manchester. \nFor tickets call the MLF box office on 0843 208 0500 or use the link below
URL:https://librarylive.co.uk/event/val-mcdermid-denise-mina/
LOCATION:Performance Space
CATEGORIES:Author Event
ATTACH;FMTTYPE=image/jpeg:https://librarylive.co.uk/wp-content/uploads/2019/08/Val-McDermid-photo-Copyright-Fraser-Rice.jpg
END:VEVENT
END:VCALENDAR