BEGIN:VCALENDAR
VERSION:2.0
PRODID:-//Library Live - ECPv6.15.13.1//NONSGML v1.0//EN
CALSCALE:GREGORIAN
METHOD:PUBLISH
X-WR-CALNAME:Library Live
X-ORIGINAL-URL:https://librarylive.co.uk
X-WR-CALDESC:Events for Library Live
REFRESH-INTERVAL;VALUE=DURATION:PT1H
X-Robots-Tag:noindex
X-PUBLISHED-TTL:PT1H
BEGIN:VTIMEZONE
TZID:UTC
BEGIN:STANDARD
TZOFFSETFROM:+0000
TZOFFSETTO:+0000
TZNAME:UTC
DTSTART:20180101T000000
END:STANDARD
END:VTIMEZONE
BEGIN:VEVENT
DTSTART;TZID=UTC:20191015T190000
DTEND;TZID=UTC:20191015T203000
DTSTAMP:20260424T063056
CREATED:20190823T135615Z
LAST-MODIFIED:20190823T135615Z
UID:3808-1571166000-1571171400@librarylive.co.uk
SUMMARY:Howard Jacobson
DESCRIPTION:Manchester Literature Festival presents…                               \nIs it possible to find love in your nineties? In Howard Jacobson’s hilarious new novel Live a Little\, nonagenarians Beryl Dusinbery and Shimi Carmelli reflect on their lives. Beryl’s problem is that she’s forgetting things – particularly about her lovers – while Shimi remembers everything and clings to a moment of shame from his childhood. Can they find healing and redemption in each other? \nA much-loved Manchester writer\, Howard is the author of 16 novels including the Booker Prize-winning The Finkler Question\, and won the Bollinger Everyman Wodehouse Prize for comic literature with Zoo Time. \nFor tickets call the MLF box office on 0843 208 0500 or use the link below
URL:https://librarylive.co.uk/event/howard-jacobson-2/
LOCATION:Performance Space
CATEGORIES:Author Event
ATTACH;FMTTYPE=image/jpeg:https://librarylive.co.uk/wp-content/uploads/2017/10/Howard-Jacobson-cropped.jpg
END:VEVENT
END:VCALENDAR