BEGIN:VCALENDAR
VERSION:2.0
PRODID:-//Library Live - ECPv6.15.13.1//NONSGML v1.0//EN
CALSCALE:GREGORIAN
METHOD:PUBLISH
X-ORIGINAL-URL:https://librarylive.co.uk
X-WR-CALDESC:Events for Library Live
REFRESH-INTERVAL;VALUE=DURATION:PT1H
X-Robots-Tag:noindex
X-PUBLISHED-TTL:PT1H
BEGIN:VTIMEZONE
TZID:UTC
BEGIN:STANDARD
TZOFFSETFROM:+0000
TZOFFSETTO:+0000
TZNAME:UTC
DTSTART:20180101T000000
END:STANDARD
END:VTIMEZONE
BEGIN:VEVENT
DTSTART;TZID=UTC:20191007T190000
DTEND;TZID=UTC:20191007T203000
DTSTAMP:20260424T063203
CREATED:20190823T133518Z
LAST-MODIFIED:20190823T133518Z
UID:3763-1570474800-1570480200@librarylive.co.uk
SUMMARY:Celeste Ng in Conversation
DESCRIPTION:Manchester Literature Festival presents…                               \nCeleste Ng\, author of the critically acclaimed bestsellers Everything I Never Told You and Little Fires Everywhere\, joins us to talk about her work. Her gripping novels explore themes of race\, class and privilege through family dynamics\, and ideas of home and exile\, both in 1970s America and the present day. Celeste questions what it means to belong\, asking what happens if long-held beliefs are challenged by new events. A writer of short fiction and essays\, as well as a multi-award-winning novelist\, Celeste will discuss her craft\, her literary influences and what it’s like to have your work adapted for television. Hosted by Anita Sethi. \nFor tickets call the MLF box office on 0843 208 0500 or use the link below
URL:https://librarylive.co.uk/event/celeste-ng-in-conversation/
LOCATION:Performance Space
CATEGORIES:Author Event
ATTACH;FMTTYPE=image/jpeg:https://librarylive.co.uk/wp-content/uploads/2019/08/Celeste-Ng.-2017-c-Kevin-Day-credit-Kevin-Day-Photography-cropped.jpg
END:VEVENT
END:VCALENDAR