BEGIN:VCALENDAR
VERSION:2.0
PRODID:-//Library Live - ECPv6.15.13.1//NONSGML v1.0//EN
CALSCALE:GREGORIAN
METHOD:PUBLISH
X-ORIGINAL-URL:https://librarylive.co.uk
X-WR-CALDESC:Events for Library Live
REFRESH-INTERVAL;VALUE=DURATION:PT1H
X-Robots-Tag:noindex
X-PUBLISHED-TTL:PT1H
BEGIN:VTIMEZONE
TZID:UTC
BEGIN:STANDARD
TZOFFSETFROM:+0000
TZOFFSETTO:+0000
TZNAME:UTC
DTSTART:20210101T000000
END:STANDARD
END:VTIMEZONE
BEGIN:VEVENT
DTSTART;TZID=UTC:20220531T180000
DTEND;TZID=UTC:20220531T194500
DTSTAMP:20260422T024227
CREATED:20220517T115009Z
LAST-MODIFIED:20220517T115205Z
UID:6065-1654020000-1654026300@librarylive.co.uk
SUMMARY:Word Central
DESCRIPTION:WORD CENTRAL RETURNS TUESDAY 31 MAY 2022 \nJames Hartnell is a poet\, newspaper columnist and writer who has been published globally. He is presently editor of Current Accounts\, the international magazine of Bank Street Writers\, and is a regular contributor to Worktown Words\, the writing arm of Live from Worktown\, a major community project in Bolton. \nJames created the Bolton International Writing Project which saw work in twenty-nine languages published and read at various venues in nineteen shows\, engaging more than five hundred immigrants from the Bolton community. \nHis new poetry collection\, Songs of Submission\, was published by Flapjack Press earlier this year. \nBook your open mic slot from noon on Tuesday 17th May via mail@flapjackpress.co.uk \nNB Open mic slots are 3 minutes per performer \nPerformance slots are allocated on a ‘first come first served’ basis from the stated booking day \nIf they are already filled you will be offered a space on the reserve list
URL:https://librarylive.co.uk/event/word-central-3/
LOCATION:Performance Space
CATEGORIES:Author Event,Performance,Readings
ATTACH;FMTTYPE=image/jpeg:https://librarylive.co.uk/wp-content/uploads/2022/03/WORD-CENTRAL-LOGO-jpg.jpg
END:VEVENT
END:VCALENDAR