BEGIN:VCALENDAR
VERSION:2.0
PRODID:-//Library Live - ECPv6.15.13.1//NONSGML v1.0//EN
CALSCALE:GREGORIAN
METHOD:PUBLISH
X-WR-CALNAME:Library Live
X-ORIGINAL-URL:https://librarylive.co.uk
X-WR-CALDESC:Events for Library Live
REFRESH-INTERVAL;VALUE=DURATION:PT1H
X-Robots-Tag:noindex
X-PUBLISHED-TTL:PT1H
BEGIN:VTIMEZONE
TZID:UTC
BEGIN:STANDARD
TZOFFSETFROM:+0000
TZOFFSETTO:+0000
TZNAME:UTC
DTSTART:20190101T000000
END:STANDARD
END:VTIMEZONE
BEGIN:VEVENT
DTSTART;TZID=UTC:20201006T183000
DTEND;TZID=UTC:20201006T193000
DTSTAMP:20260423T102722
CREATED:20200916T130535Z
LAST-MODIFIED:20200916T130641Z
UID:5011-1602009000-1602012600@librarylive.co.uk
SUMMARY:An Evening with Sarah Butler
DESCRIPTION:Celebrate #LibrariesWeek with Manchester Libraries and acclaimed author Sarah Butler. \nSarah is a writer and literature activist who lives in Manchester. She has three novels published by Picador in the UK: Ten Things I’ve Learnt About Love\, Before The Fire and Jack and Bet which was published in early 2020. \nIn 2007\, Sarah established the literature consultancy UrbanWords\, through which she explores the relationship between writing and place through prose\, poetry and participatory projects. \nSarah joined Manchester Metropolitan University as Lecturer in Creative Writing in June 2018. \nSaran will be in conversation and reading from her latest novel\, followed by a Q&A and the opportunity for audience questions. \nJack and Bet \nJack is a man of few words\, married to a woman of many. He and Bet have been together for seventy years — almost a lifetime — and happily so\, for the most part. \nAll Jack and Bet want is to enjoy the time they have left together\, in the flat they have tried to make their home. Their son Tommy has other ideas: he wants them to live somewhere with round-the-clock care\, hot meals\, activities. Bet thinks they can manage just fine. \nWhen they strike up an unlikely friendship with Marinela\, a young Romanian woman\, Bet thinks she has found the perfect solution — one that could change Marinela’s life as well as theirs. But this means revisiting an old love affair\, and confronting a long-buried secret she has kept hidden from everyone\, even Jack\, for many years. \nTender\, moving\, and beautifully told\, Jack and Bet is an unforgettable novel about love and loss\, the joys and regrets of a long marriage\, and the struggle to find a place to call home. \nThe event will take place via Live Webinar. We’ll send all the details on how you can join the event in the confirmation email.
URL:https://librarylive.co.uk/event/an-evening-with-sarah-butler/
CATEGORIES:Author Event,Online Event,Readings
ATTACH;FMTTYPE=image/jpeg:https://librarylive.co.uk/wp-content/uploads/2020/09/Sarah-Butler-banner.jpg
END:VEVENT
END:VCALENDAR