BEGIN:VCALENDAR
VERSION:2.0
PRODID:-//Library Live - ECPv6.15.13.1//NONSGML v1.0//EN
CALSCALE:GREGORIAN
METHOD:PUBLISH
X-ORIGINAL-URL:https://librarylive.co.uk
X-WR-CALDESC:Events for Library Live
REFRESH-INTERVAL;VALUE=DURATION:PT1H
X-Robots-Tag:noindex
X-PUBLISHED-TTL:PT1H
BEGIN:VTIMEZONE
TZID:UTC
BEGIN:STANDARD
TZOFFSETFROM:+0000
TZOFFSETTO:+0000
TZNAME:UTC
DTSTART:20250101T000000
END:STANDARD
END:VTIMEZONE
BEGIN:VEVENT
DTSTART;TZID=UTC:20260425T120000
DTEND;TZID=UTC:20260425T124500
DTSTAMP:20260423T103320
CREATED:20220202T114651Z
LAST-MODIFIED:20260326T104248Z
UID:12971-1777118400-1777121100@librarylive.co.uk
SUMMARY:Spanish Storytime
DESCRIPTION:Hola! Come and join María at the Spanish Story Time monthly sessions\, where you can listen to a story in Spanish and learn phrases and vocabulary\, whilst having fun. We end each session making a simple craft related to the story. \nSuitable for children aged 4-7 \nFree – just drop in.  \nPlease consider making a donation to support our cultural programme if you can\, either online or at one of our cash or contactless donation boxes in Central Library
URL:https://librarylive.co.uk/event/spanish-storytime-2026-03-14/2026-04-25/
LOCATION:Children’s Library
CATEGORIES:Family
ATTACH;FMTTYPE=image/jpeg:https://librarylive.co.uk/wp-content/uploads/2022/02/Spanish-strytime-pic2.jpg
END:VEVENT
END:VCALENDAR